BEGIN:VCALENDAR
VERSION:2.0
PRODID:-//renewalchurchdc - ECPv6.13.2.1//NONSGML v1.0//EN
CALSCALE:GREGORIAN
METHOD:PUBLISH
X-WR-CALNAME:renewalchurchdc
X-ORIGINAL-URL:https://renewalchurchdc.org
X-WR-CALDESC:Events for renewalchurchdc
REFRESH-INTERVAL;VALUE=DURATION:PT1H
X-Robots-Tag:noindex
X-PUBLISHED-TTL:PT1H
BEGIN:VTIMEZONE
TZID:UTC
BEGIN:STANDARD
TZOFFSETFROM:+0000
TZOFFSETTO:+0000
TZNAME:UTC
DTSTART:20250101T000000
END:STANDARD
END:VTIMEZONE
BEGIN:VEVENT
DTSTART;TZID=UTC:20251031T183000
DTEND;TZID=UTC:20251031T200000
DTSTAMP:20260421T184923
CREATED:20250620T003354Z
LAST-MODIFIED:20251029T224654Z
UID:63355-1761935400-1761940800@renewalchurchdc.org
SUMMARY:FAITH vs. FEAR FAMILY FESTIVAL - A HALLOWEEN ALTERNATIVE
DESCRIPTION:  \nFAITH & FEAR – A HALLOWEEN ALTERNATIVE\n(FOR KID AGES 5-14)\nFaith vs. Fear Family Fest is a Halloween Alternative for Families with Kids! \n  \nBring the whole family to Faith vs Fear Fall Festival for a joyful\, kid-friendly alternative to Halloween! \nExciting Games & Activities\, A fun Escape Room Experience\, Character Building Bible Stories\, Hands-On Craft to share with kids at The Children’s Hospital! \n   \nWHEN:  Friday\, October 31 at 6:30 – 8PM \nLOCATION: Parkland Magnet Middle School for Aerospace Technology\, 4610 W Frankfort Dr.\, Rockville\, MD \nPositive\, uplifting costumes encouraged for kids (Optional) \n  \nRegistration is required—RSVP now: \n\nRegistration
URL:https://renewalchurchdc.org/event/faithvsfear_oct_31/
CATEGORIES:Renewal
ATTACH;FMTTYPE=image/jpeg:https://renewalchurchdc.org/wp-content/uploads/2025/06/Faith-and-Fear-Facebook-post.jpg
END:VEVENT
END:VCALENDAR