BEGIN:VCALENDAR
VERSION:2.0
PRODID:-//renewalchurchdc - ECPv6.13.2.1//NONSGML v1.0//EN
CALSCALE:GREGORIAN
METHOD:PUBLISH
X-ORIGINAL-URL:https://renewalchurchdc.org
X-WR-CALDESC:Events for renewalchurchdc
REFRESH-INTERVAL;VALUE=DURATION:PT1H
X-Robots-Tag:noindex
X-PUBLISHED-TTL:PT1H
BEGIN:VTIMEZONE
TZID:UTC
BEGIN:STANDARD
TZOFFSETFROM:+0000
TZOFFSETTO:+0000
TZNAME:UTC
DTSTART:20250101T000000
END:STANDARD
END:VTIMEZONE
BEGIN:VEVENT
DTSTART;TZID=UTC:20251025T110000
DTEND;TZID=UTC:20251025T125000
DTSTAMP:20260421T200814
CREATED:20250814T210431Z
LAST-MODIFIED:20251022T180213Z
UID:63485-1761390000-1761396600@renewalchurchdc.org
SUMMARY:Renewal Worship Experience
DESCRIPTION:Renewal Worship Experience\nSaturday\, October 25 \n  \nJoin us for our Renewal Worship Experience – A time of worship\, and open conversation on life\, faith\, and God! \n  \n\nWorship Conversation Theme:\nTopic of Focus: BOLD LIVING – BOLD ENOUGH TO GO – A worship conversation on the call of God to share your faith with others.\nWorship & Live Discussion Groups: 11:00 AM – 12:50 PM\nBuffet Style Potluck Lunch: 1 PM – Bring a dish of your choice to share with 3-5 people\n\nLocation: Parkland Magnet Middle School – 4610 W Frankfort Dr\, Rockville\, MD 20853 \nJoin us for our Renewal worship experience.  As we grow and design the worship we would love for you to come experience it\, and give us feedback on how we can make this special time together of more value to your personal spirituality! \nCall 202-919-1100 for more information and directions. \nLet’s grow in hope together!
URL:https://renewalchurchdc.org/event/renewal-worship-experience/
CATEGORIES:Renewal
ATTACH;FMTTYPE=image/webp:https://renewalchurchdc.org/wp-content/uploads/2025/06/Worship-experiencie-July-19.webp
END:VEVENT
END:VCALENDAR