BEGIN:VCALENDAR
VERSION:2.0
PRODID:-//renewalchurchdc - ECPv6.13.2.1//NONSGML v1.0//EN
CALSCALE:GREGORIAN
METHOD:PUBLISH
X-ORIGINAL-URL:https://renewalchurchdc.org
X-WR-CALDESC:Events for renewalchurchdc
REFRESH-INTERVAL;VALUE=DURATION:PT1H
X-Robots-Tag:noindex
X-PUBLISHED-TTL:PT1H
BEGIN:VTIMEZONE
TZID:UTC
BEGIN:STANDARD
TZOFFSETFROM:+0000
TZOFFSETTO:+0000
TZNAME:UTC
DTSTART:20250101T000000
END:STANDARD
END:VTIMEZONE
BEGIN:VEVENT
DTSTART;VALUE=DATE:20250712
DTEND;VALUE=DATE:20250713
DTSTAMP:20260422T000355
CREATED:20250620T005932Z
LAST-MODIFIED:20250711T181821Z
UID:63377-1752278400-1752364799@renewalchurchdc.org
SUMMARY:Community Impact Day July 12
DESCRIPTION:Community Impact Day\nSaturday\, July 12 – Community Impact Day \nPOSTPONED TO SEPTEMBER \n  \n  \nLet’s be the hands and feet of Jesus! We’ll gather to serve lunch and encourage women facing challenges at the Interfaith Works Center. There will be no regular worship service this week—just worship through service. \n  \n\nEvent: Serve at Interfaith Works Women’s Center\nTime: POSTPONED TO SEPTEMBER (Due to unexpected building remodel happening at the Interfaith Works Second Hand Center\nLocation: Interfaith Works\, Rockville\, MD 751 Twinbrook Pkwy Rockville\, MD 20851
URL:https://renewalchurchdc.org/event/community-impact-day-july-12/
CATEGORIES:Renewal
ATTACH;FMTTYPE=image/jpeg:https://renewalchurchdc.org/wp-content/uploads/2025/06/1.jpg
END:VEVENT
END:VCALENDAR