BEGIN:VCALENDAR
VERSION:2.0
PRODID:-//renewalchurchdc - ECPv6.13.2.1//NONSGML v1.0//EN
CALSCALE:GREGORIAN
METHOD:PUBLISH
X-ORIGINAL-URL:https://renewalchurchdc.org
X-WR-CALDESC:Events for renewalchurchdc
REFRESH-INTERVAL;VALUE=DURATION:PT1H
X-Robots-Tag:noindex
X-PUBLISHED-TTL:PT1H
BEGIN:VTIMEZONE
TZID:UTC
BEGIN:STANDARD
TZOFFSETFROM:+0000
TZOFFSETTO:+0000
TZNAME:UTC
DTSTART:20260101T000000
END:STANDARD
END:VTIMEZONE
BEGIN:VEVENT
DTSTART;TZID=UTC:20260110T110000
DTEND;TZID=UTC:20260110T125000
DTSTAMP:20260421T143958
CREATED:20260103T192924Z
LAST-MODIFIED:20260107T222841Z
UID:63613-1768042800-1768049400@renewalchurchdc.org
SUMMARY:Renewal Worship Experience - MORE Series
DESCRIPTION:  \nRenewal Worship Experience\nSaturday\, January\n  \nJoin us for our Renewal Worship Experience and our 2026 New Worship Series: MORE – A time of worship\, and open conversation on life\, faith\, and God!   \nWe are taking a journey together during our new 2026 worship series: MORE – Less of me doesn’t mean less life — it means more of the life God intended! \n  \n\nWorship Conversation Theme: MORE\nTopic of Focus: MORE of me\, Less of Him\nWorship & Live Discussion Groups: 11:00 AM – 12:50 PM\nBuffet Style Potluck Lunch: 1 PM – Bring a dish of your choice to share with 3-5 people\n\nLocation: Parkland Magnet Middle School – 4610 W Frankfort Dr\, Rockville\, MD 20853 \nJoin us for our Renewal worship experience.  As we grow and design the worship we would love for you to come experience it\, and give us feedback on how we can make this special time together of more value to your personal spirituality! \nLet’s grow in hope together! \nNeed info and directions: Call/Text 202-919-1100
URL:https://renewalchurchdc.org/event/renewal-worship-january-10/
CATEGORIES:Renewal
ATTACH;FMTTYPE=image/jpeg:https://renewalchurchdc.org/wp-content/uploads/2026/01/Copy-of-MORE-2.jpg
END:VEVENT
BEGIN:VEVENT
DTSTART;TZID=UTC:20260117T110000
DTEND;TZID=UTC:20260117T125000
DTSTAMP:20260421T143958
CREATED:20260107T215038Z
LAST-MODIFIED:20260107T215230Z
UID:63630-1768647600-1768654200@renewalchurchdc.org
SUMMARY:RENEWAL WORSHIP EXEPRIENCE
DESCRIPTION:Renewal Worship Experience\nSaturday\, January 17 \nJoin is for The Renewal Worship Experience!  We continue our new worship series: MORE – Less of me does not mean less life-it means more of the life God intended! \n\nWorship Conversation Theme: MORE\nThis week: MORE Success\nWorship & Live Discussion Groups: 11 AM – 12:50 PM\nBuffet Style Potluck Lunch: 1 PM – Bring a dish of your choice to share\n\nLocation: Parkland Magnet Middle School – 4610 W Frankfort Dr.\, Rockville\, MD 20853 \nAs we grow we are constantly trying to improve the design of the worship so it remains relevant\, engaging\, and meaningful in connecting us with God and each other.  We appreciate your feedback on how we can make this special time together of more value to your personal spiritual journey! \nInvite your family and friends\, and let’s grow in hope together! \nNeed info or directions: Call/Text: 202-919-1100 or 202-888-7929
URL:https://renewalchurchdc.org/event/renewal-worship-exeprience/
LOCATION:Parkland Magnet Middle School\, 4610 W Frankfort Dr.\, Rockville\, 20853\, United States
CATEGORIES:Renewal
ATTACH;FMTTYPE=image/webp:https://renewalchurchdc.org/wp-content/uploads/2025/06/Worship-experiencie-July-19.webp
END:VEVENT
BEGIN:VEVENT
DTSTART;TZID=UTC:20260120T183000
DTEND;TZID=UTC:20260120T194500
DTSTAMP:20260421T143958
CREATED:20260107T220423Z
LAST-MODIFIED:20260107T221057Z
UID:63632-1768933800-1768938300@renewalchurchdc.org
SUMMARY:EXPLORE FAITH Bible Study Group
DESCRIPTION:EXPLORING THE BOOK OF DANIEL\nConnecting ancient wisdom to real life in confusing times like ours!\n  \nTHIS WEEK: The World’s Future in a Single Image – Daniel chapters 1-2 \nWHEN: Tuesdays at 6:30 – 7:45 PM \nLOCATION: Greencourt Innovation Center\, 12358 Parklawn Dr.\, Suite 319\, Rockville\, MD \nOR VIA ZOOM (use this link) \nThis 1st quarter of 2026 we are styling the ancient wisdom and prophesies of the Book of Daniel\, and drawing life lessons that connect it to our turbulent times! \nThis group is a safe and open space for spiritual conversations as we explore real-life questions about faith\, life\, and God.  This quarter we will study\, reflect\, and explore the Bible book of Daniel together connecting its ancient insights to our challenges today.  Our focus is on asking honest questions and reflecting on how we can live more like Jesus—true to His values—in a polarized and complex world.
URL:https://renewalchurchdc.org/event/explore-faith-bible-study-group-2/
LOCATION:Parkland Magnet Middle School\, 4610 W Frankfort Dr.\, Rockville\, 20853\, United States
CATEGORIES:Renewal
ATTACH;FMTTYPE=image/jpeg:https://renewalchurchdc.org/wp-content/uploads/2026/01/Copy-of-Copy-of-Copy-of-Copy-of-Young-Adult-Bible-Study-Facebook-Post.jpg
END:VEVENT
BEGIN:VEVENT
DTSTART;TZID=UTC:20260124T110000
DTEND;TZID=UTC:20260124T125000
DTSTAMP:20260421T143958
CREATED:20250620T013439Z
LAST-MODIFIED:20260107T224943Z
UID:63385-1769252400-1769259000@renewalchurchdc.org
SUMMARY:Renewal Worship Experience January 17
DESCRIPTION:Renewal Worship Experience\nSaturday\, January 24\nJoin is for The Renewal Worship Experience!  We continue our new worship series: MORE of Success – What does it actually mean to win at life?   \nThis week we rethink success through the words of Jesus—and what truly lasts. \n\nWorship Conversation Theme: MORE\nThis week: MORE Success\, Less of Pressure\nWorship & Live Discussion Groups: 11 AM – 12:50 PM\nBuffet Style Potluck Lunch: 1 PM – Bring a dish of your choice to share\n\nLocation: Parkland Magnet Middle School – 4610 W Frankfort Dr.\, Rockville\, MD 20853 \nAs we grow we are constantly trying to improve the design of the worship so it remains relevant\, engaging\, and meaningful in connecting us with God and each other.  We appreciate your feedback on how we can make this special time together of more value to your personal spiritual journey! \nInvite your family and friends\, and let’s grow in hope together! \nNeed info or directions: Call/Text: 202-919-1100 or 202-888-7929
URL:https://renewalchurchdc.org/event/renewal-worship-experience-july-26/
LOCATION:Parkland Magnet Middle School\, 4610 W Frankfort Dr.\, Rockville\, 20853\, United States
CATEGORIES:Renewal
ATTACH;FMTTYPE=image/jpeg:https://renewalchurchdc.org/wp-content/uploads/2025/06/Copy-of-MORE-3.jpg
END:VEVENT
END:VCALENDAR