BEGIN:VCALENDAR
VERSION:2.0
PRODID:-//renewalchurchdc - ECPv6.13.2.1//NONSGML v1.0//EN
CALSCALE:GREGORIAN
METHOD:PUBLISH
X-ORIGINAL-URL:https://renewalchurchdc.org
X-WR-CALDESC:Events for renewalchurchdc
REFRESH-INTERVAL;VALUE=DURATION:PT1H
X-Robots-Tag:noindex
X-PUBLISHED-TTL:PT1H
BEGIN:VTIMEZONE
TZID:UTC
BEGIN:STANDARD
TZOFFSETFROM:+0000
TZOFFSETTO:+0000
TZNAME:UTC
DTSTART:20250101T000000
END:STANDARD
END:VTIMEZONE
BEGIN:VEVENT
DTSTART;TZID=UTC:20250907T130000
DTEND;TZID=UTC:20250907T143000
DTSTAMP:20260421T200507
CREATED:20250620T002614Z
LAST-MODIFIED:20250831T135400Z
UID:63351-1757250000-1757255400@renewalchurchdc.org
SUMMARY:Financial Peace Seminar\, August 31
DESCRIPTION:  \nFinancial Peace Seminar – Managing Your Personal and Family Finances\n\nA Financial Seminar on managing your personal and family finances\, so you can control your money\, beat debt\, live debt free and build wealth\n\n\nFINANCIAL PEACE SEMINAR – Learn the most important principles for managing your personal and family finances well\, based on the principles to financial freedom presented by financial expert\, and best seller\, Dave Ramsay. Talk to and interact with local financial experts on investing for education\, retirement\, and wealth. \nWHEN: Every Sunday until August 31st at 1:00 – 2:30 PM  \n>>> Meets every Sunday from 1 – 2:30 PM for 8 weeks!!! <<< \nAre you in control of your money\, or are they in control of you? Do you have a hard time managing to make it every month\, despite having a consistent income? Are you strugling with debt and can’t seem to beat it? Have you being able to start saving and building wealth? \nThe goal of this Financial Peace seminar is to help you manage your personal and family finances so you are in control of your money\, learn how to build a Zero Sum budget\, pay of debt\, and start saving and investing the right way for your future. Based on Dave Rumsey’s Financial Peace principles\, this seminar will give you the skills and the knowledge of how to manage your money well\, so you can start living a financially stress free life! \nWHERE: \nRenewal Life Space  \nGreencourt Innovation Center – 12358 Parklawn Dr.\, Suite 319 Rockville\, MD 20853 \nWHAT TO EXPECT AT EACH SESSION \n\nWatch a Fiancial Video or Listen to Live Presenter: The presentations will cover different topics from how to budget\, how to get to being debt-free\, when and how much to invest for housing\, eduction\, and retirement; How to manage your retirement savings so they bring the most return for you; How to prepare for kids college; How to start building wealth by managing your income well\nWork Book Time: You will actually get to start working on specific aspects of your finances\nDiscussion Time: A special time of feedback\, discussing strategies\, open conversations on financial issues and topics you are wrestling with\nQ & A Time: Time for helping you find the answers to specific questions related to your budget\, finances\, investments\, etc.\n\nSEMIANAR COST: \n\nThe Seminar costs for you pays to get your seminar material’s kit: $75\nWe do not make any money out of this. All presenters\, and rest of the expenses either donating their time or are covered by Renewal Life Center\nWe guarantee you that this seminar will transform your personal financial management skills and will be very much worth it’s value\n\nScholarships Available\nScholarships are available for those interested but unable to afford the camp. Please contact us with more info about your scholarship request to see if you qualify \nMORE INFO: \nYou can contact with any questions you might have: \nCall/Text: 202-717-4004 or Write to: events@renewaldc.org \n\nREGISTER TODAY \n\nRegistration
URL:https://renewalchurchdc.org/event/financial-peace-seminar-july-26/
CATEGORIES:Renewal
ATTACH;FMTTYPE=image/webp:https://renewalchurchdc.org/wp-content/uploads/2025/02/Financial-Seminar-renewal-experience.webp
END:VEVENT
BEGIN:VEVENT
DTSTART;TZID=UTC:20250930T183000
DTEND;TZID=UTC:20250930T194000
DTSTAMP:20260421T200507
CREATED:20250620T003545Z
LAST-MODIFIED:20250929T142431Z
UID:63357-1759257000-1759261200@renewalchurchdc.org
SUMMARY:Explore Faith\, Tuesday July 29
DESCRIPTION:EXPLORE FAITH\nA 10-Week Journey Through Core Christian Beliefs\nHave questions about faith? Want to understand what Christianity really teaches? Whether you’re new to faith\, returning after time away\, or simply curious—this class is for you. This is an open conversation where you can ask any question\, express any challenge or doubt you have faced on each one of the topics. \nJoin us for EXPLORE FAITH\, a safe\, welcoming space where we’ll walk through the foundational teachings of the Christian faith and how they apply to real life today. \n  \nMeets Every Tuesday: | 6:30 – 7:40 PM (Doors open at 6:00 PM) \nLOCATION: \nGreencourt Innovation Center \n12358 Parklawn Dr\, Suite 317\, Rockville\, MD 20852 \nCome explore\, ask questions\, and grow—no pressure\, just conversation.\nInvite a friend and take the next step in your spiritual journey! \n\nRegistration
URL:https://renewalchurchdc.org/event/explore-faith-july-08/
CATEGORIES:Renewal
ATTACH;FMTTYPE=image/webp:https://renewalchurchdc.org/wp-content/uploads/2025/04/Explore-Faith-feature-img.webp
END:VEVENT
END:VCALENDAR