BEGIN:VCALENDAR
VERSION:2.0
PRODID:-//renewalchurchdc - ECPv6.13.2.1//NONSGML v1.0//EN
CALSCALE:GREGORIAN
METHOD:PUBLISH
X-ORIGINAL-URL:https://renewalchurchdc.org
X-WR-CALDESC:Events for renewalchurchdc
REFRESH-INTERVAL;VALUE=DURATION:PT1H
X-Robots-Tag:noindex
X-PUBLISHED-TTL:PT1H
BEGIN:VTIMEZONE
TZID:UTC
BEGIN:STANDARD
TZOFFSETFROM:+0000
TZOFFSETTO:+0000
TZNAME:UTC
DTSTART:20250101T000000
END:STANDARD
END:VTIMEZONE
BEGIN:VEVENT
DTSTART;TZID=UTC:20250705T110000
DTEND;TZID=UTC:20250705T125000
DTSTAMP:20260421T223826
CREATED:20250620T004847Z
LAST-MODIFIED:20250627T182639Z
UID:63368-1751713200-1751719800@renewalchurchdc.org
SUMMARY:Outdoor Worship at Wheaton Regional Park July 05
DESCRIPTION:  \nRenewal Worship Experience\nSaturday\, July 5 – Outdoor Worship & Picnic at Wheaton Regional Park \nJoin us for an outdoor worship experience in the beauty of nature! We’ll reflect on Jesus’ words about the end times—and what it means to live ready today\, not just someday. Bring a lawn chair\, water\, and a Bible. Follow the Renewal Church Signs upon arrival or call 202-919-1100 for directions. Let’s grow in hope together! \n\nTopic: “What Would You Ask Jesus”\nTheme: Jesus and the Outcasts – A Table for Everyone\nTime: 11:00 AM – 12:50 PM\nLocation: Wheaton Regional Park – 2004 Shorefield Rd.\, Silver Springs\, MD 20902
URL:https://renewalchurchdc.org/event/outdoor-worship-at-wheaton-regional-park-july-05/
CATEGORIES:Renewal
ATTACH;FMTTYPE=image/jpeg:https://renewalchurchdc.org/wp-content/uploads/2025/06/Copy-of-Worship-IN-THE-PARK-5-copy.jpg
END:VEVENT
BEGIN:VEVENT
DTSTART;VALUE=DATE:20250712
DTEND;VALUE=DATE:20250713
DTSTAMP:20260421T223826
CREATED:20250620T005932Z
LAST-MODIFIED:20250711T181821Z
UID:63377-1752278400-1752364799@renewalchurchdc.org
SUMMARY:Community Impact Day July 12
DESCRIPTION:Community Impact Day\nSaturday\, July 12 – Community Impact Day \nPOSTPONED TO SEPTEMBER \n  \n  \nLet’s be the hands and feet of Jesus! We’ll gather to serve lunch and encourage women facing challenges at the Interfaith Works Center. There will be no regular worship service this week—just worship through service. \n  \n\nEvent: Serve at Interfaith Works Women’s Center\nTime: POSTPONED TO SEPTEMBER (Due to unexpected building remodel happening at the Interfaith Works Second Hand Center\nLocation: Interfaith Works\, Rockville\, MD 751 Twinbrook Pkwy Rockville\, MD 20851
URL:https://renewalchurchdc.org/event/community-impact-day-july-12/
CATEGORIES:Renewal
ATTACH;FMTTYPE=image/jpeg:https://renewalchurchdc.org/wp-content/uploads/2025/06/1.jpg
END:VEVENT
BEGIN:VEVENT
DTSTART;TZID=UTC:20250727T130000
DTEND;TZID=UTC:20250727T143000
DTSTAMP:20260421T223826
CREATED:20250620T002117Z
LAST-MODIFIED:20250719T131639Z
UID:63344-1753621200-1753626600@renewalchurchdc.org
SUMMARY:Financial Peace Seminar July 27
DESCRIPTION:  \nFinancial Peace Seminar – Managing Your Personal and Family Finances\n\nA Financial Seminar on managing your personal and family finances\, so you can control your money\, beat debt\, live debt free and build wealth\n\n\nFINANCIAL PEACE SEMINAR – Learn the most important principles for managing your personal and family finances well\, based on the principles to financial freedom presented by financial expert\, and best seller\, Dave Ramsay. Talk to and interact with local financial experts on investing for education\, retirement\, and wealth. \nWHEN: Continues until August 31 at 1:00 – 2:30 PM  \n>>> Meets every Sunday from 1 – 2:30 PM for 8 weeks!!! <<< \nAre you in control of your money\, or are they in control of you? Do you have a hard time managing to make it every month\, despite having a consistent income? Are you strugling with debt and can’t seem to beat it? Have you being able to start saving and building wealth? \nThe goal of this Financial Peace seminar is to help you manage your personal and family finances so you are in control of your money\, learn how to build a Zero Sum budget\, pay of debt\, and start saving and investing the right way for your future. Based on Dave Rumsey’s Financial Peace principles\, this seminar will give you the skills and the knowledge of how to manage your money well\, so you can start living a financially stress free life! \nWHERE: \nRenewal Life Space  \nGreencourt Innovation Center – 12358 Parklawn Dr.\, Suite 319\, Rockville\, MD 20853 \nWHAT TO EXPECT AT EACH SESSION \n\nWatch a Fiancial Video or Listen to Live Presenter: The presentations will cover different topics from how to budget\, how to get to being debt-free\, when and how much to invest for housing\, eduction\, and retirement; How to manage your retirement savings so they bring the most return for you; How to prepare for kids college; How to start building wealth by managing your income well\nWork Book Time: You will actually get to start working on specific aspects of your finances\nDiscussion Time: A special time of feedback\, discussing strategies\, open conversations on financial issues and topics you are wrestling with\nQ & A Time: Time for helping you find the answers to specific questions related to your budget\, finances\, investments\, etc.\n\nSEMIANAR COST: \n\nThe Seminar costs for you pays to get your seminar material’s kit: $75\nWe do not make any money out of this. All presenters\, and rest of the expenses either donating their time or are covered by Renewal Life Center\nWe guarantee you that this seminar will transform your personal financial management skills and will be very much worth it’s value\n\nScholarships Available\nScholarships are available for those interested but unable to afford the camp. Please contact us with more info about your scholarship request to see if you qualify \nMORE INFO: \nYou can contact with any questions you might have: \nCall/Text: 202-717-4004 or Write to: events@renewaldc.org \n\nREGISTER TODAY \n\nRegistration
URL:https://renewalchurchdc.org/event/financial-peace-seminar-july-06/
CATEGORIES:Renewal
ATTACH;FMTTYPE=image/webp:https://renewalchurchdc.org/wp-content/uploads/2025/02/Financial-Seminar-renewal-experience.webp
END:VEVENT
END:VCALENDAR